BEGIN:VCALENDAR
VERSION:2.0
PRODID:-//pretix//Oberauer_Tickets//
BEGIN:VTIMEZONE
TZID:Europe/Berlin
BEGIN:STANDARD
DTSTART:20001029T030000
RRULE:FREQ=YEARLY;BYDAY=-1SU;BYMONTH=10
TZNAME:CET
TZOFFSETFROM:+0200
TZOFFSETTO:+0100
END:STANDARD
BEGIN:DAYLIGHT
DTSTART:20000326T020000
RRULE:FREQ=YEARLY;BYDAY=-1SU;BYMONTH=3
TZNAME:CEST
TZOFFSETFROM:+0100
TZOFFSETTO:+0200
END:DAYLIGHT
END:VTIMEZONE
BEGIN:VEVENT
UID:pretix-prr-prrc26-2-0@tickets.oberauer.com
DTSTART;TZID=Europe/Berlin:20261111T100000
DTEND;TZID=Europe/Berlin:20261112T163000
DESCRIPTION:Tickets: https://tickets.oberauer.com/prr/prrc26-2/\nVeranstalt
 er: PR Report
DTSTAMP:20260423T160708Z
LOCATION:Kosmos
SUMMARY:PR Report Camp 2026
END:VEVENT
END:VCALENDAR
