BEGIN:VCALENDAR
VERSION:2.0
PRODID:-//pretix//Oberauer_Tickets//
BEGIN:VTIMEZONE
TZID:Europe/Berlin
BEGIN:STANDARD
DTSTART:20001029T030000
RRULE:FREQ=YEARLY;BYDAY=-1SU;BYMONTH=10
TZNAME:CET
TZOFFSETFROM:+0200
TZOFFSETTO:+0100
END:STANDARD
BEGIN:DAYLIGHT
DTSTART:20000326T020000
RRULE:FREQ=YEARLY;BYDAY=-1SU;BYMONTH=3
TZNAME:CEST
TZOFFSETFROM:+0100
TZOFFSETTO:+0200
END:DAYLIGHT
END:VTIMEZONE
BEGIN:VEVENT
UID:pretix-KI-Treff-dm23-0@tickets.oberauer.com
DTSTART;TZID=Europe/Berlin:20231213T160000
DTEND;TZID=Europe/Berlin:20231213T170000
DESCRIPTION:Tickets: https://tickets.oberauer.com/KI-Treff/dm23/\nVeranstal
 ter: Druck & Medien
DTSTAMP:20260424T020442Z
LOCATION:Digital
SUMMARY:Druck & Medien KI-Treff
END:VEVENT
END:VCALENDAR
